BEGIN:VCALENDAR
VERSION:2.0
PRODID:-//Rubin Biżuteria - ECPv6.15.20//NONSGML v1.0//EN
CALSCALE:GREGORIAN
METHOD:PUBLISH
X-WR-CALNAME:Rubin Biżuteria
X-ORIGINAL-URL:https://rubin-bizuteria.pl
X-WR-CALDESC:Wydarzenia dla Rubin Biżuteria
REFRESH-INTERVAL;VALUE=DURATION:PT1H
X-Robots-Tag:noindex
X-PUBLISHED-TTL:PT1H
BEGIN:VTIMEZONE
TZID:Europe/Warsaw
BEGIN:DAYLIGHT
TZOFFSETFROM:+0100
TZOFFSETTO:+0200
TZNAME:CEST
DTSTART:20240331T010000
END:DAYLIGHT
BEGIN:STANDARD
TZOFFSETFROM:+0200
TZOFFSETTO:+0100
TZNAME:CET
DTSTART:20241027T010000
END:STANDARD
BEGIN:DAYLIGHT
TZOFFSETFROM:+0100
TZOFFSETTO:+0200
TZNAME:CEST
DTSTART:20250330T010000
END:DAYLIGHT
BEGIN:STANDARD
TZOFFSETFROM:+0200
TZOFFSETTO:+0100
TZNAME:CET
DTSTART:20251026T010000
END:STANDARD
BEGIN:DAYLIGHT
TZOFFSETFROM:+0100
TZOFFSETTO:+0200
TZNAME:CEST
DTSTART:20260329T010000
END:DAYLIGHT
BEGIN:STANDARD
TZOFFSETFROM:+0200
TZOFFSETTO:+0100
TZNAME:CET
DTSTART:20261025T010000
END:STANDARD
END:VTIMEZONE
BEGIN:VEVENT
DTSTART;TZID=Europe/Warsaw:20250305T180000
DTEND;TZID=Europe/Warsaw:20250305T193000
DTSTAMP:20260425T212659
CREATED:20250228T151830Z
LAST-MODIFIED:20250228T154338Z
UID:42596-1741197600-1741203000@rubin-bizuteria.pl
SUMMARY:Czerwony sznureczek -warsztaty tworzenia bransoletki
DESCRIPTION:Nie musisz być mistrzynią biżuterii\, aby wziąć udział! Moje warsztaty są dla każdej kobiety\, która chce nauczyć się tworzyć biżuterię. Zapraszam Cię. na warsztaty tworzenia czerwonego sznureczka z intencją. \n\n\n\nHistoria i znaczenie czerwonego sznureczkaCzerwony sznureczek to symbol ochrony\, szczęścia i pozytywnej energii. Jego historia sięga starożytnych tradycji – noszono go jako talizman przeciwko złej energii\, zazdrości i negatywnym wpływom. W wielu kulturach\, od Kabbały po wierzenia ludowe\, czerwony sznurek na lewym nadgarstku miał przyciągać dobrobyt\, miłość i harmonię. \n\n\n\nBransoletka ta jest także przypomnieniem o intencji\, z jaką ją zakładamy – może to być ochrona\, siła wewnętrzna\, spełnienie marzeń lub odnalezienie spokoju. \n\n\n\nInformacje o warsztatach: \n\n\n\nWarsztaty odbędą się w pracowni Rubin\, przy ul. Ratajczaka 1\, w Środzie Wielkopolskiej. \n\n\n\nKażda uczestniczka samodzielnie wykona bransoletkę z wybranym kamieniem wg własnego projektu\, które będzie mogła nosić sama lub podarować komuś w prezencie. \n\n\n\nCzas trwania warsztatów:1-1\,5 godziny. \n\n\n\nUwaga: kupując bilet\, zaznacz odbiór osobisty. Nie naliczą się wtedy koszty wysyłki. Dodatkowo jeśli korzystasz z okularów do czytania\, koniecznie weź je ze sobą. \n\n\n\nPoznaj powody\, dla których warto przyjść na warsztaty tworzenia czerwonego sznureczka: \n\n\n\n\n\n\n\n\n\n\n\n\n\n\n\n\n\n\nstworzysz osobisty amulet – bransoletka\, którą wykonasz własnoręcznie\, będzie miała unikalną energię i znaczenie\, które sama jej nadasz. To nie tylko ozdoba\, ale talizman przypominający o Twojej intencji – ochronie\, szczęściu czy spełnieniu marzeń. Własnoręcznie wykonana bransoletka będzie miała wyjątkową moc i energię\n\n\n\n wybierzesz kamień mocy – podczas warsztatów wybierzesz kamień\, który najlepiej odpowiada Twoim potrzebom i energii. Każdy minerał ma swoje właściwości – np. czarny turmalin chroni przed negatywną energią\, a kwarc różowy przyciąga miłość i harmonię. Dzięki temu Twoja bransoletka stanie się jeszcze silniejszym symbolem wsparcia w codziennym życiu\n\n\n\n kreatywnie spędzisz czas – warsztaty to idealna okazja\, by oderwać się od codziennych obowiązków i pobudzić swoją kreatywność. Tworzenie biżuterii to nie tylko relaksujący proces\, ale też sposób na wyrażenie siebie i swoich intencji. Poza tym\, własnoręcznie wykonana biżuteria daje ogromną satysfakcję i radość\n\n\n\nrelaks i przyjemność – podczas warsztatów czeka na Ciebie ciepła\, kobieca atmosfera przy aromatycznej herbacie\, kawie i czymś słodkim. To moment na rozmowy\, dzielenie się pozytywną energią i wymianę inspiracji z innymi uczestniczkami. Wyjdziesz nie tylko z własnoręcznie wykonaną bransoletką\, ale też z dobrą energią i miłymi wspomnieniami\n\n\n\notrzymasz kartę mocy – każda uczestniczka dostanie wyjątkową *kartę mocy z afirmacją\, która będzie wspierać ją codziennie. To drobny\, ale symboliczny gest\, który przypomni Ci o intencji\, jaką włożyłaś w swoją bransoletkę. Dzięki temu magia warsztatów zostanie z Tobą na dłużej\, a bransoletka stanie się jeszcze bardziej osobistym symbolem Twojej siły\n\n\n\n\nTo warsztaty dla kobiet\, które wierzą w siłę intencji\, lubią otaczać się piękną biżuterią i chcą stworzyć coś wyjątkowego – dla siebie lub kogoś bliskiego. \n\n\n\nZapraszam Jadwiga Kraska \n\n\n\n\nKup bilet na wydarzenie
URL:https://rubin-bizuteria.pl/wydarzenie/czerwony-sznureczek-warsztaty-tworzenia-bransoletki/
ATTACH;FMTTYPE=image/jpeg:https://rubin-bizuteria.pl/wp-content/uploads/2024/10/sznureczek-hematyt-grafit.jpg
END:VEVENT
BEGIN:VEVENT
DTSTART;TZID=Europe/Warsaw:20250306T180000
DTEND;TZID=Europe/Warsaw:20250306T193000
DTSTAMP:20260425T212659
CREATED:20241115T111549Z
LAST-MODIFIED:20250228T153148Z
UID:39165-1741284000-1741289400@rubin-bizuteria.pl
SUMMARY:Warsztaty stacjonarne w Rubin - tworzenie pierścionków 💎
DESCRIPTION:Stwórz wyjątkowy pierścionek dla siebie lub bliskich! \n\n\n\n\n\n\n\nWarsztaty odbywają się w kameralnej atmosferze\, w grupie liczącej maksymalnie 6 osób\, co zapewnia indywidualne podejście do każdego uczestnika. W cenę zajęć wliczone są wszystkie niezbędne materiały\, dzięki czemu możesz skupić się wyłącznie na tworzeniu. Podczas warsztatów wykonasz dwa pierścionki z kamieni\, zaprojektowane zgodnie z Twoimi własnymi pomysłami i inspiracjami. Dodatkowo czeka na Ciebie poczęstunek – aromatyczna kawa oraz coś słodkiego\, co umili czas spędzony na twórczej pracy. To wyjątkowa okazja\, aby stworzyć coś pięknego i niepowtarzalnego w przyjaznym\, kreatywnym otoczeniu. Serdecznie zapraszam!
URL:https://rubin-bizuteria.pl/wydarzenie/warsztaty-stacjonarne-w-rubin-tworzenie-pierscionkow-%f0%9f%92%8e/
CATEGORIES:Warsztaty
ATTACH;FMTTYPE=image/jpeg:https://rubin-bizuteria.pl/wp-content/uploads/2024/10/zesatw-pierscionki-mokait.jpg
ORGANIZER;CN="Jadwiga Kraska":MAILTO:kontakt@rubin-bizuteria.pl
END:VEVENT
BEGIN:VEVENT
DTSTART;TZID=Europe/Warsaw:20250307T190000
DTEND;TZID=Europe/Warsaw:20250307T203000
DTSTAMP:20260425T212659
CREATED:20250228T152754Z
LAST-MODIFIED:20250228T153934Z
UID:42598-1741374000-1741379400@rubin-bizuteria.pl
SUMMARY:Czerwony sznureczek- warsztaty tworzenia bransoletki
DESCRIPTION:Nie musisz być mistrzynią biżuterii\, aby wziąć udział! Moje warsztaty są dla każdej kobiety\, która chce nauczyć się tworzyć biżuterię. Zapraszam Cię. na warsztaty tworzenia czerwonego sznureczka z intencją. \n\n\n\nHistoria i znaczenie czerwonego sznureczkaCzerwony sznureczek to symbol ochrony\, szczęścia i pozytywnej energii. Jego historia sięga starożytnych tradycji – noszono go jako talizman przeciwko złej energii\, zazdrości i negatywnym wpływom. W wielu kulturach\, od Kabbały po wierzenia ludowe\, czerwony sznurek na lewym nadgarstku miał przyciągać dobrobyt\, miłość i harmonię. \n\n\n\nBransoletka ta jest także przypomnieniem o intencji\, z jaką ją zakładamy – może to być ochrona\, siła wewnętrzna\, spełnienie marzeń lub odnalezienie spokoju. \n\n\n\nInformacje o warsztatach: \n\n\n\nWarsztaty odbędą się w pracowni Rubin\, przy ul. Ratajczaka 1\, w Środzie Wielkopolskiej. \n\n\n\nKażda uczestniczka samodzielnie wykona bransoletkę z wybranym kamieniem wg własnego projektu\, które będzie mogła nosić sama lub podarować komuś w prezencie. \n\n\n\nCzas trwania warsztatów:1-1\,5 godziny. \n\n\n\nUwaga: kupując bilet\, zaznacz odbiór osobisty. Nie naliczą się wtedy koszty wysyłki. Dodatkowo jeśli korzystasz z okularów do czytania\, koniecznie weź je ze sobą. \n\n\n\n\n\n\n\n\n\n\n\n\n\n\n\n\n\nPoznaj powody\, dla których warto przyjść na warsztaty tworzenia czerwonego sznureczka \n\n\n\n\nstworzysz osobisty amulet – bransoletka\, którą wykonasz własnoręcznie\, będzie miała unikalną energię i znaczenie\, które sama jej nadasz. To nie tylko ozdoba\, ale talizman przypominający o Twojej intencji – ochronie\, szczęściu czy spełnieniu marzeń. Własnoręcznie wykonana bransoletka będzie miała wyjątkową moc i energię\n\n\n\nwybierzesz kamień mocy – podczas warsztatów wybierzesz kamień\, który najlepiej odpowiada Twoim potrzebom i energii. Każdy minerał ma swoje właściwości – np. czarny turmalin chroni przed negatywną energią\, a kwarc różowy przyciąga miłość i harmonię. Dzięki temu Twoja bransoletka stanie się jeszcze silniejszym symbolem wsparcia w codziennym życiu\n\n\n\nkreatywnie spędzisz czas – warsztaty to idealna okazja\, by oderwać się od codziennych obowiązków i pobudzić swoją kreatywność. Tworzenie biżuterii to nie tylko relaksujący proces\, ale też sposób na wyrażenie siebie i swoich intencji. Poza tym\, własnoręcznie wykonana biżuteria daje ogromną satysfakcję i radość\n\n\n\nrelaks i przyjemność – podczas warsztatów czeka na Ciebie ciepła\, kobieca atmosfera przy aromatycznej herbacie\, kawie i czymś słodkim. To moment na rozmowy\, dzielenie się pozytywną energią i wymianę inspiracji z innymi uczestniczkami. Wyjdziesz nie tylko z własnoręcznie wykonaną bransoletką\, ale też z dobrą energią i miłymi wspomnieniami\n\n\n\notrzymasz kartę mocy – każda uczestniczka dostanie wyjątkową *kartę mocy z afirmacją\, która będzie wspierać ją codziennie. To drobny\, ale symboliczny gest\, który przypomni Ci o intencji\, jaką włożyłaś w swoją bransoletkę. Dzięki temu magia warsztatów zostanie z Tobą na dłużej\, a bransoletka stanie się jeszcze bardziej osobistym symbolem Twojej siły\n\n\n\n\nTo warsztaty dla kobiet\, które wierzą w siłę intencji\, lubią otaczać się piękną biżuterią i chcą stworzyć coś wyjątkowego – dla siebie lub kogoś bliskiego. \n\n\n\nZapraszam Jadwiga  \n\n\n\n\n\n\n\n\nKup bilet
URL:https://rubin-bizuteria.pl/wydarzenie/czerwony-sznureczek-warsztaty-tworzenia-bransoletki-2/
ATTACH;FMTTYPE=image/jpeg:https://rubin-bizuteria.pl/wp-content/uploads/2024/10/sznureczek-krysztal.jpg
END:VEVENT
BEGIN:VEVENT
DTSTART;TZID=Europe/Warsaw:20250308T100000
DTEND;TZID=Europe/Warsaw:20250308T130000
DTSTAMP:20260425T212659
CREATED:20250306T174844Z
LAST-MODIFIED:20250306T175122Z
UID:42638-1741428000-1741438800@rubin-bizuteria.pl
SUMMARY:Dzień Kobiet w RUBIN
DESCRIPTION:🌸 Dzień Kobiet w Rubin Biżuteria! 🌸 \n\n\n\n\n\n\n\n\n\n\n\nDrogie Klientki\,8 marca to Wasz dzień! Z tej okazji zapraszam Was do mojej pracowni na wyjątkowe zakupy w kobiecej atmosferze. \n\n\n\n✨ Specjalne rabat na biżuterię☕ Słodki poczęstunek\, kawa i herbata💎 Unikalne ręcznie robione dodatki \n\n\n\nŚwiętujmy razem piękno i kobiecość! Niech ten dzień będzie pełen inspiracji i wyjątkowych chwil. \n\n\n\n📍 Gdzie? Pracownia Rubin Biżuteria📅 Kiedy? 8 marca \n\n\n\nDo zobaczenia! ❤️Jadwiga
URL:https://rubin-bizuteria.pl/wydarzenie/dzien-kobiet-w-rubin/
ATTACH;FMTTYPE=image/jpeg:https://rubin-bizuteria.pl/wp-content/uploads/2024/08/bransoletka_opal_narece-1.jpg
END:VEVENT
BEGIN:VEVENT
DTSTART;TZID=Europe/Warsaw:20250322T180000
DTEND;TZID=Europe/Warsaw:20250322T193000
DTSTAMP:20260425T212659
CREATED:20250322T090930Z
LAST-MODIFIED:20250515T100947Z
UID:42768-1742666400-1742671800@rubin-bizuteria.pl
SUMMARY:Warsztaty tworzenia pierścionków z kamieni
DESCRIPTION:Kochana\, nie musisz być ekspertką od biżuterii\, żeby do nas dołączyć! 🌿 Moje warsztaty są dla każdej z nas – wystarczy chęć stworzenia czegoś wyjątkowego. Pokażę Ci\, jak zrobić piękne pierścionki z kamieni na gumce\, a przy tym spędzimy miło czas w kobiecym gronie.  Brzmi świetnie? Zapraszam \n\n\n\nInformacje o warsztatach: \n\n\n\nWarsztaty odbędą się 28 marca w pracowni Rubin\, przy ul. Ratajczaka 1\, w Środzie Wielkopolskiej o godzinie 18:00. \n\n\n\nKażda uczestniczka samodzielnie wykona 2 pierścionki z kamieni wg własnego projektu\, które będzie mogła nosić sama lub podarować komuś w prezencie. \n\n\n\nCzas trwania warsztatów:1-1\,5 godziny. \n\n\n\nUwaga: kupując bilet\, zaznacz odbiór osobisty. Nie naliczą się wtedy koszty wysyłki. Dodatkowo jeśli korzystasz z okularów do czytania\, koniecznie weź je ze sobą. \n\n\n\nPoniżej przeczytaj 5 powodów\, dla których warto przyjść!\n\n\n\nPoczujesz flow kreatywności Nie musisz być artystką – po prostu bawimy się kolorami\, kształtami i tworzymy coś\, co będzie tylko Twoje! \n\n\n\nNauczysz się czegoś nowego 💍Nie wiesz\, jak zrobić biżuterię? Spokojnie\, wszystkiego Cię nauczę! I kto wie\, może odkryjesz nową pasję? \n\n\n\nTo czas tylko dla Ciebie ☕Oderwij się od codziennych obowiązków i zrób coś dla siebie – w luźnej\, przyjemnej atmosferze\, przy dobrej kawie i słodkościach. \n\n\n\nPoznasz świetne dziewczyny \n\n\n\n Warsztaty to nie tylko biżuteria\, ale też cudowne rozmowy i inspirujące znajomości \n\n\n\nBrzmi super\, prawda? To co\, widzimy się? 😍
URL:https://rubin-bizuteria.pl/wydarzenie/warsztaty-tworzenia-pierscionkow-z-kamieni-28-marca/
ATTACH;FMTTYPE=image/jpeg:https://rubin-bizuteria.pl/wp-content/uploads/2024/08/pierscionektrzygranaty.jpg
END:VEVENT
END:VCALENDAR