BEGIN:VCALENDAR
VERSION:2.0
PRODID:-//Rubin Biżuteria - ECPv6.15.20//NONSGML v1.0//EN
CALSCALE:GREGORIAN
METHOD:PUBLISH
X-WR-CALNAME:Rubin Biżuteria
X-ORIGINAL-URL:https://rubin-bizuteria.pl
X-WR-CALDESC:Wydarzenia dla Rubin Biżuteria
REFRESH-INTERVAL;VALUE=DURATION:PT1H
X-Robots-Tag:noindex
X-PUBLISHED-TTL:PT1H
BEGIN:VTIMEZONE
TZID:Europe/Warsaw
BEGIN:DAYLIGHT
TZOFFSETFROM:+0100
TZOFFSETTO:+0200
TZNAME:CEST
DTSTART:20240331T010000
END:DAYLIGHT
BEGIN:STANDARD
TZOFFSETFROM:+0200
TZOFFSETTO:+0100
TZNAME:CET
DTSTART:20241027T010000
END:STANDARD
BEGIN:DAYLIGHT
TZOFFSETFROM:+0100
TZOFFSETTO:+0200
TZNAME:CEST
DTSTART:20250330T010000
END:DAYLIGHT
BEGIN:STANDARD
TZOFFSETFROM:+0200
TZOFFSETTO:+0100
TZNAME:CET
DTSTART:20251026T010000
END:STANDARD
BEGIN:DAYLIGHT
TZOFFSETFROM:+0100
TZOFFSETTO:+0200
TZNAME:CEST
DTSTART:20260329T010000
END:DAYLIGHT
BEGIN:STANDARD
TZOFFSETFROM:+0200
TZOFFSETTO:+0100
TZNAME:CET
DTSTART:20261025T010000
END:STANDARD
END:VTIMEZONE
BEGIN:VEVENT
DTSTART;TZID=Europe/Warsaw:20250405T110000
DTEND;TZID=Europe/Warsaw:20250405T180000
DTSTAMP:20260425T193308
CREATED:20250331T060552Z
LAST-MODIFIED:20250331T060554Z
UID:42776-1743850800-1743876000@rubin-bizuteria.pl
SUMMARY:Zapraszam na Targi Dobry Design
DESCRIPTION:Już w najbliższy weekend 5 i 6 kwietnia 2025 zapraszam na moje stoisko z biżuterią na Targi Dobry Design we Wrocławiu. Przygotowałam dużo nowości. Jako pierwsi zobaczycie nową kolekcje w odcieniach błękitów i najmodniejszego koloru roku – cappuccino. \n\n\n\nBędzie mnóstwo wystawców: moda\, biżuteria\, kosmetyki\, ceramika\, coś dla podniebienia. Nie może Cię zabraknąć!
URL:https://rubin-bizuteria.pl/wydarzenie/zapraszam-na-targi-dobry-design/
ATTACH;FMTTYPE=image/jpeg:https://rubin-bizuteria.pl/wp-content/uploads/2025/03/TDD-WIOSNA-POST.jpg
END:VEVENT
END:VCALENDAR