BEGIN:VCALENDAR
VERSION:2.0
PRODID:-//Rubin Biżuteria - ECPv6.15.20//NONSGML v1.0//EN
CALSCALE:GREGORIAN
METHOD:PUBLISH
X-WR-CALNAME:Rubin Biżuteria
X-ORIGINAL-URL:https://rubin-bizuteria.pl
X-WR-CALDESC:Wydarzenia dla Rubin Biżuteria
REFRESH-INTERVAL;VALUE=DURATION:PT1H
X-Robots-Tag:noindex
X-PUBLISHED-TTL:PT1H
BEGIN:VTIMEZONE
TZID:Europe/Warsaw
BEGIN:DAYLIGHT
TZOFFSETFROM:+0100
TZOFFSETTO:+0200
TZNAME:CEST
DTSTART:20240331T010000
END:DAYLIGHT
BEGIN:STANDARD
TZOFFSETFROM:+0200
TZOFFSETTO:+0100
TZNAME:CET
DTSTART:20241027T010000
END:STANDARD
BEGIN:DAYLIGHT
TZOFFSETFROM:+0100
TZOFFSETTO:+0200
TZNAME:CEST
DTSTART:20250330T010000
END:DAYLIGHT
BEGIN:STANDARD
TZOFFSETFROM:+0200
TZOFFSETTO:+0100
TZNAME:CET
DTSTART:20251026T010000
END:STANDARD
BEGIN:DAYLIGHT
TZOFFSETFROM:+0100
TZOFFSETTO:+0200
TZNAME:CEST
DTSTART:20260329T010000
END:DAYLIGHT
BEGIN:STANDARD
TZOFFSETFROM:+0200
TZOFFSETTO:+0100
TZNAME:CET
DTSTART:20261025T010000
END:STANDARD
END:VTIMEZONE
BEGIN:VEVENT
DTSTART;TZID=Europe/Warsaw:20250522T180000
DTEND;TZID=Europe/Warsaw:20250522T193000
DTSTAMP:20260425T174657
CREATED:20250515T101010Z
LAST-MODIFIED:20250515T101227Z
UID:42970-1747936800-1747942200@rubin-bizuteria.pl
SUMMARY:Warsztaty tworzenia pierścionków z kamieni
DESCRIPTION:Kochana\, nie musisz być ekspertką od biżuterii\, żeby do nas dołączyć! 🌿 Moje warsztaty są dla każdej z nas – wystarczy chęć stworzenia czegoś wyjątkowego. Pokażę Ci\, jak zrobić piękne pierścionki z kamieni na gumce\, a przy tym spędzimy miło czas w kobiecym gronie.  Brzmi świetnie? ZapraszamInformacje o warsztatach:Warsztaty odbędą się 22 maja w pracowni Rubin\, przy ul. Ratajczaka 1\, w Środzie Wielkopolskiej o godzinie 18:00.Każda uczestniczka samodzielnie wykona 2 pierścionki z kamieni wg własnego projektu\, które będzie mogła nosić sama lub podarować komuś w prezencie.Czas trwania warsztatów:1-1\,5 godziny.Uwaga: kupując bilet\, zaznacz odbiór osobisty. Nie naliczą się wtedy koszty wysyłki. Dodatkowo jeśli korzystasz z okularów do czytania\, koniecznie weź je ze sobą.
URL:https://rubin-bizuteria.pl/wydarzenie/warsztaty-tworzenia-pierscionkow-z-kamieni/
ATTACH;FMTTYPE=image/jpeg:https://rubin-bizuteria.pl/wp-content/uploads/2024/08/pierscionki-z-serduszkiem.jpg
ORGANIZER;CN="Jadwiga Kraska":MAILTO:kontakt@rubin-bizuteria.pl
END:VEVENT
END:VCALENDAR